BEGIN:VCALENDAR
VERSION:2.0
PRODID:-//Squarespace Inc/Squarespace 6//v6//EN
BEGIN:VEVENT
UID:5b7320dc032be478622d05da@squarespace.com
DTSTAMP:20210511T200646Z
DTSTART:20190127T013000Z
DTEND:20190127T030000Z
SUMMARY:Dal Niente @ New Music New College
END:VEVENT
END:VCALENDAR
