BEGIN:VCALENDAR
VERSION:2.0
PRODID:-//Squarespace Inc/Squarespace 6//v6//EN
BEGIN:VEVENT
UID:5d1fc1cde96bd20001f4a08c@squarespace.com
DTSTAMP:20210511T200816Z
DTSTART:20190712T220000Z
DTEND:20190712T230000Z
SUMMARY:Dal Niente @ Walden School: Faculty works
GEO:42.908878;-72.062351
LOCATION:Louise Shonk Kelley Recital Hall\, The Dublin School\, Dublin\, NH
 \, United States
END:VEVENT
END:VCALENDAR
