BEGIN:VCALENDAR
VERSION:2.0
PRODID:-//Squarespace Inc/Squarespace 6//v6//EN
BEGIN:VEVENT
UID:55b55415e4b0840c30e4194b@squarespace.com
DTSTAMP:20150726T215248Z
DTSTART:20140213T230000Z
DTEND:20140215T040000Z
SUMMARY:Indiana University
END:VEVENT
END:VCALENDAR
