BEGIN:VCALENDAR
VERSION:2.0
PRODID:-//Squarespace Inc/Squarespace 6//v6//EN
BEGIN:VEVENT
UID:55b55290e4b025daadcbdd96@squarespace.com
DTSTAMP:20150726T213803Z
DTSTART:20150511T220000Z
DTEND:20150511T230000Z
SUMMARY:Harvard University
END:VEVENT
END:VCALENDAR
